BEGIN:VCALENDAR
VERSION:2.0
PRODID:-//BCAC DST - ECPv6.15.12.2//NONSGML v1.0//EN
CALSCALE:GREGORIAN
METHOD:PUBLISH
X-ORIGINAL-URL:https://www.bcacdst.org
X-WR-CALDESC:Events for BCAC DST
REFRESH-INTERVAL;VALUE=DURATION:PT1H
X-Robots-Tag:noindex
X-PUBLISHED-TTL:PT1H
BEGIN:VTIMEZONE
TZID:America/New_York
BEGIN:DAYLIGHT
TZOFFSETFROM:-0500
TZOFFSETTO:-0400
TZNAME:EDT
DTSTART:20240310T070000
END:DAYLIGHT
BEGIN:STANDARD
TZOFFSETFROM:-0400
TZOFFSETTO:-0500
TZNAME:EST
DTSTART:20241103T060000
END:STANDARD
BEGIN:DAYLIGHT
TZOFFSETFROM:-0500
TZOFFSETTO:-0400
TZNAME:EDT
DTSTART:20250309T070000
END:DAYLIGHT
BEGIN:STANDARD
TZOFFSETFROM:-0400
TZOFFSETTO:-0500
TZNAME:EST
DTSTART:20251102T060000
END:STANDARD
BEGIN:DAYLIGHT
TZOFFSETFROM:-0500
TZOFFSETTO:-0400
TZNAME:EDT
DTSTART:20260308T070000
END:DAYLIGHT
BEGIN:STANDARD
TZOFFSETFROM:-0400
TZOFFSETTO:-0500
TZNAME:EST
DTSTART:20261101T060000
END:STANDARD
END:VTIMEZONE
BEGIN:VEVENT
DTSTART;TZID=America/New_York:20250306T180000
DTEND;TZID=America/New_York:20250306T203000
DTSTAMP:20260421T115239
CREATED:20240715T025343Z
LAST-MODIFIED:20240715T030451Z
UID:4044-1741284000-1741293000@www.bcacdst.org
SUMMARY:Chapter Meeting
DESCRIPTION:Chapter meetings of the Broward County Alumnae Chapter are closed to the public and are only available to sorors of Delta Sigma Theta Sorority\, Inc. Chapter meetings are typically the first Thursday of every month unless otherwise noted. Calling all sorors to join us as we discuss the business of Delta.
URL:https://www.bcacdst.org/event/chapter-meeting-16/
LOCATION:TBD
ATTACH;FMTTYPE=image/jpeg:https://www.bcacdst.org/wp-content/uploads/2024/07/Chapter-Meeting-Save-the-Date.jpg
END:VEVENT
BEGIN:VEVENT
DTSTART;TZID=America/New_York:20250325T180000
DTEND;TZID=America/New_York:20250325T200000
DTSTAMP:20260421T115239
CREATED:20240714T193014Z
LAST-MODIFIED:20240715T030429Z
UID:4018-1742925600-1742932800@www.bcacdst.org
SUMMARY:Executive Board Meeting
DESCRIPTION:The executive board meeting of the Broward County Alumnae Chapter of Delta Sigma Theta\, Inc. is closed to the public and only available to BCACDST sorors. Sorors\, join us for a lively discussion about the business of Delta.
URL:https://www.bcacdst.org/event/executive-board-meeting-10/
LOCATION:Virtual
ATTACH;FMTTYPE=image/jpeg:https://www.bcacdst.org/wp-content/uploads/2024/07/EB-Meeting-Save-the-Date.jpg
END:VEVENT
END:VCALENDAR