BEGIN:VCALENDAR
VERSION:2.0
PRODID:-//BCAC DST - ECPv6.15.12.2//NONSGML v1.0//EN
CALSCALE:GREGORIAN
METHOD:PUBLISH
X-ORIGINAL-URL:https://www.bcacdst.org
X-WR-CALDESC:Events for BCAC DST
REFRESH-INTERVAL;VALUE=DURATION:PT1H
X-Robots-Tag:noindex
X-PUBLISHED-TTL:PT1H
BEGIN:VTIMEZONE
TZID:America/New_York
BEGIN:DAYLIGHT
TZOFFSETFROM:-0500
TZOFFSETTO:-0400
TZNAME:EDT
DTSTART:20230312T070000
END:DAYLIGHT
BEGIN:STANDARD
TZOFFSETFROM:-0400
TZOFFSETTO:-0500
TZNAME:EST
DTSTART:20231105T060000
END:STANDARD
BEGIN:DAYLIGHT
TZOFFSETFROM:-0500
TZOFFSETTO:-0400
TZNAME:EDT
DTSTART:20240310T070000
END:DAYLIGHT
BEGIN:STANDARD
TZOFFSETFROM:-0400
TZOFFSETTO:-0500
TZNAME:EST
DTSTART:20241103T060000
END:STANDARD
BEGIN:DAYLIGHT
TZOFFSETFROM:-0500
TZOFFSETTO:-0400
TZNAME:EDT
DTSTART:20250309T070000
END:DAYLIGHT
BEGIN:STANDARD
TZOFFSETFROM:-0400
TZOFFSETTO:-0500
TZNAME:EST
DTSTART:20251102T060000
END:STANDARD
END:VTIMEZONE
BEGIN:VEVENT
DTSTART;TZID=America/New_York:20240718T180000
DTEND;TZID=America/New_York:20240718T210000
DTSTAMP:20260423T160701
CREATED:20240713T174956Z
LAST-MODIFIED:20240713T174956Z
UID:3984-1721325600-1721336400@www.bcacdst.org
SUMMARY:LinkUP To VOTE: Candidate Forum
DESCRIPTION:
URL:https://www.bcacdst.org/event/linkup-to-vote-candidate-forum/
LOCATION:Redeeming Word Christian Center\, 2800 West Prospect Road\, Fort Lauderdale\, FL\, 33309\, United States
ATTACH;FMTTYPE=image/jpeg:https://www.bcacdst.org/wp-content/uploads/2024/07/mail.jpeg
END:VEVENT
BEGIN:VEVENT
DTSTART;TZID=America/New_York:20240720T090000
DTEND;TZID=America/New_York:20240720T130000
DTSTAMP:20260423T160701
CREATED:20240713T173108Z
LAST-MODIFIED:20240713T173108Z
UID:3981-1721466000-1721480400@www.bcacdst.org
SUMMARY:BACK TO SCHOOL ВАСКРАСК GIVEAWAY
DESCRIPTION:
URL:https://www.bcacdst.org/event/back-to-school-%d0%b2%d0%b0%d1%81%d0%ba%d1%80%d0%b0%d1%81%d0%ba-giveaway/
LOCATION:St. George Park\, 3501 NW 8th Street\, Lauderhill\, FL\, 33311\, United States
ATTACH;FMTTYPE=image/jpeg:https://www.bcacdst.org/wp-content/uploads/2024/07/Backpack-Giveaway-2024_v1.jpg
END:VEVENT
END:VCALENDAR