BEGIN:VCALENDAR
VERSION:2.0
PRODID:-//BCAC DST - ECPv6.15.12.2//NONSGML v1.0//EN
CALSCALE:GREGORIAN
METHOD:PUBLISH
X-WR-CALNAME:BCAC DST
X-ORIGINAL-URL:https://www.bcacdst.org
X-WR-CALDESC:Events for BCAC DST
REFRESH-INTERVAL;VALUE=DURATION:PT1H
X-Robots-Tag:noindex
X-PUBLISHED-TTL:PT1H
BEGIN:VTIMEZONE
TZID:America/New_York
BEGIN:DAYLIGHT
TZOFFSETFROM:-0500
TZOFFSETTO:-0400
TZNAME:EDT
DTSTART:20240310T070000
END:DAYLIGHT
BEGIN:STANDARD
TZOFFSETFROM:-0400
TZOFFSETTO:-0500
TZNAME:EST
DTSTART:20241103T060000
END:STANDARD
BEGIN:DAYLIGHT
TZOFFSETFROM:-0500
TZOFFSETTO:-0400
TZNAME:EDT
DTSTART:20250309T070000
END:DAYLIGHT
BEGIN:STANDARD
TZOFFSETFROM:-0400
TZOFFSETTO:-0500
TZNAME:EST
DTSTART:20251102T060000
END:STANDARD
BEGIN:DAYLIGHT
TZOFFSETFROM:-0500
TZOFFSETTO:-0400
TZNAME:EDT
DTSTART:20260308T070000
END:DAYLIGHT
BEGIN:STANDARD
TZOFFSETFROM:-0400
TZOFFSETTO:-0500
TZNAME:EST
DTSTART:20261101T060000
END:STANDARD
END:VTIMEZONE
BEGIN:VEVENT
DTSTART;TZID=America/New_York:20250517T080000
DTEND;TZID=America/New_York:20250517T120000
DTSTAMP:20260421T162118
CREATED:20250319T232321Z
LAST-MODIFIED:20250319T232321Z
UID:4175-1747468800-1747483200@www.bcacdst.org
SUMMARY:March of Dimes: MARCH For BABIES
DESCRIPTION:March for Babies: A Mother of a Movement is more than just a walk\, it’s our opportunity to make a visible difference now and for generations to come. The funds raised will support health equity\, open doors for all moms to have access to care\, and protect the health of families by pushing for their rights. \nDonate via the provided link:  WWW.MARCHFORBABIES.ORG/BCAC_DST to help us meet our fundraising goal of $2000. \n 
URL:https://www.bcacdst.org/event/march-of-dimes-march-for-babies/
LOCATION:Nova Southeastern University\, 3100 Ray Ferraro Jr. Blvd\, Davie\, FL\, 33314\, United States
ATTACH;FMTTYPE=image/png:https://www.bcacdst.org/wp-content/uploads/2025/03/mail.png
END:VEVENT
END:VCALENDAR