BEGIN:VCALENDAR
VERSION:2.0
PRODID:-//BCAC DST - ECPv6.15.12.2//NONSGML v1.0//EN
CALSCALE:GREGORIAN
METHOD:PUBLISH
X-WR-CALNAME:BCAC DST
X-ORIGINAL-URL:https://www.bcacdst.org
X-WR-CALDESC:Events for BCAC DST
REFRESH-INTERVAL;VALUE=DURATION:PT1H
X-Robots-Tag:noindex
X-PUBLISHED-TTL:PT1H
BEGIN:VTIMEZONE
TZID:America/New_York
BEGIN:DAYLIGHT
TZOFFSETFROM:-0500
TZOFFSETTO:-0400
TZNAME:EDT
DTSTART:20240310T070000
END:DAYLIGHT
BEGIN:STANDARD
TZOFFSETFROM:-0400
TZOFFSETTO:-0500
TZNAME:EST
DTSTART:20241103T060000
END:STANDARD
BEGIN:DAYLIGHT
TZOFFSETFROM:-0500
TZOFFSETTO:-0400
TZNAME:EDT
DTSTART:20250309T070000
END:DAYLIGHT
BEGIN:STANDARD
TZOFFSETFROM:-0400
TZOFFSETTO:-0500
TZNAME:EST
DTSTART:20251102T060000
END:STANDARD
BEGIN:DAYLIGHT
TZOFFSETFROM:-0500
TZOFFSETTO:-0400
TZNAME:EDT
DTSTART:20260308T070000
END:DAYLIGHT
BEGIN:STANDARD
TZOFFSETFROM:-0400
TZOFFSETTO:-0500
TZNAME:EST
DTSTART:20261101T060000
END:STANDARD
END:VTIMEZONE
BEGIN:VEVENT
DTSTART;TZID=America/New_York:20250126T073000
DTEND;TZID=America/New_York:20250126T073000
DTSTAMP:20260423T052624
CREATED:20241109T030226Z
LAST-MODIFIED:20250115T235553Z
UID:4074-1737876600-1737876600@www.bcacdst.org
SUMMARY:10th Annual Delta 5K Run/Walk
DESCRIPTION:
URL:https://www.bcacdst.org/event/10th-annual-delta-5k-run-walk/
LOCATION:Plantation Central Park\, 9151 NW 2nd Street\, Plantation\, FL\, 33324\, United States
ATTACH;FMTTYPE=image/jpeg:https://www.bcacdst.org/wp-content/uploads/2025/01/2025-flyer-updated.PNG.jpg
END:VEVENT
END:VCALENDAR