BEGIN:VCALENDAR
VERSION:2.0
PRODID:-//BCAC DST - ECPv6.15.12.2//NONSGML v1.0//EN
CALSCALE:GREGORIAN
METHOD:PUBLISH
X-ORIGINAL-URL:https://www.bcacdst.org
X-WR-CALDESC:Events for BCAC DST
REFRESH-INTERVAL;VALUE=DURATION:PT1H
X-Robots-Tag:noindex
X-PUBLISHED-TTL:PT1H
BEGIN:VTIMEZONE
TZID:America/New_York
BEGIN:DAYLIGHT
TZOFFSETFROM:-0500
TZOFFSETTO:-0400
TZNAME:EDT
DTSTART:20240310T070000
END:DAYLIGHT
BEGIN:STANDARD
TZOFFSETFROM:-0400
TZOFFSETTO:-0500
TZNAME:EST
DTSTART:20241103T060000
END:STANDARD
BEGIN:DAYLIGHT
TZOFFSETFROM:-0500
TZOFFSETTO:-0400
TZNAME:EDT
DTSTART:20250309T070000
END:DAYLIGHT
BEGIN:STANDARD
TZOFFSETFROM:-0400
TZOFFSETTO:-0500
TZNAME:EST
DTSTART:20251102T060000
END:STANDARD
BEGIN:DAYLIGHT
TZOFFSETFROM:-0500
TZOFFSETTO:-0400
TZNAME:EDT
DTSTART:20260308T070000
END:DAYLIGHT
BEGIN:STANDARD
TZOFFSETFROM:-0400
TZOFFSETTO:-0500
TZNAME:EST
DTSTART:20261101T060000
END:STANDARD
END:VTIMEZONE
BEGIN:VEVENT
DTSTART;TZID=America/New_York:20250111T080000
DTEND;TZID=America/New_York:20250111T120000
DTSTAMP:20260423T054315
CREATED:20250101T222433Z
LAST-MODIFIED:20250101T222433Z
UID:4105-1736582400-1736596800@www.bcacdst.org
SUMMARY:Adopt-A-Street Clean Up
DESCRIPTION:“VOLUNTEERS NEEDED FOR COMMUNITY CLEANUP EVENT”
URL:https://www.bcacdst.org/event/adopt-a-street-clean-up/
LOCATION:Delta House\, 2250 NW 21st Avenue\, Fort Lauderdale\, FL\, 33311\, United States
ATTACH;FMTTYPE=image/png:https://www.bcacdst.org/wp-content/uploads/2025/01/0F0C35F2-BE7B-47FB-B11A-72B1E64FCCE9.png
END:VEVENT
BEGIN:VEVENT
DTSTART;TZID=America/New_York:20250111T190000
DTEND;TZID=America/New_York:20250112T000000
DTSTAMP:20260423T054315
CREATED:20250101T025414Z
LAST-MODIFIED:20250101T030429Z
UID:4090-1736622000-1736640000@www.bcacdst.org
SUMMARY:Crimson and Cream Takeover 2025
DESCRIPTION:Tickets: $75 \n  \nPurchase Link: bit.ly/2025Takeover \n 
URL:https://www.bcacdst.org/event/crimson-and-cream-takeover-2025/
LOCATION:Stage 954: The Casino @ Dania Beach\, 301 E. Dania Beach Blvd.\, Dania Beach\, FL\, 33004\, United States
ATTACH;FMTTYPE=image/png:https://www.bcacdst.org/wp-content/uploads/2024/12/image.png
END:VEVENT
END:VCALENDAR