BEGIN:VCALENDAR
VERSION:2.0
PRODID:-//BCAC DST - ECPv6.15.12.2//NONSGML v1.0//EN
CALSCALE:GREGORIAN
METHOD:PUBLISH
X-WR-CALNAME:BCAC DST
X-ORIGINAL-URL:https://www.bcacdst.org
X-WR-CALDESC:Events for BCAC DST
REFRESH-INTERVAL;VALUE=DURATION:PT1H
X-Robots-Tag:noindex
X-PUBLISHED-TTL:PT1H
BEGIN:VTIMEZONE
TZID:America/New_York
BEGIN:DAYLIGHT
TZOFFSETFROM:-0500
TZOFFSETTO:-0400
TZNAME:EDT
DTSTART:20200308T070000
END:DAYLIGHT
BEGIN:STANDARD
TZOFFSETFROM:-0400
TZOFFSETTO:-0500
TZNAME:EST
DTSTART:20201101T060000
END:STANDARD
BEGIN:DAYLIGHT
TZOFFSETFROM:-0500
TZOFFSETTO:-0400
TZNAME:EDT
DTSTART:20210314T070000
END:DAYLIGHT
BEGIN:STANDARD
TZOFFSETFROM:-0400
TZOFFSETTO:-0500
TZNAME:EST
DTSTART:20211107T060000
END:STANDARD
BEGIN:DAYLIGHT
TZOFFSETFROM:-0500
TZOFFSETTO:-0400
TZNAME:EDT
DTSTART:20220313T070000
END:DAYLIGHT
BEGIN:STANDARD
TZOFFSETFROM:-0400
TZOFFSETTO:-0500
TZNAME:EST
DTSTART:20221106T060000
END:STANDARD
END:VTIMEZONE
BEGIN:VEVENT
DTSTART;TZID=America/New_York:20210417T120000
DTEND;TZID=America/New_York:20210417T200000
DTSTAMP:20260420T054435
CREATED:20210202T044554Z
LAST-MODIFIED:20210401T011823Z
UID:2774-1618660800-1618689600@www.bcacdst.org
SUMMARY:Decades En Rouge
DESCRIPTION:Decades En Rouge “A Timeless Legacy of Dedication and Service”\, promises to be an exciting day of entertainment and recognition.\n\n\n\n\n\nAbout this Event\n\n\nOn behalf of Delta Education and Life Development Foundation\, Inc. (DELDF) in partnership with Broward County Alumnae Chapter of Delta Sigma Theta Sorority\, Inc. (BCAC-DST)\, it is our distinct pleasure to extend to you an invitation to join our Virtual Telethon\, celebrating decades of service in Broward County\, Florida. \nThis signature event\, Decades En Rouge “A Timeless Legacy of Dedication and Service”\, promises to be an exciting day of entertainment and recognition. This creative virtual event allows these two dynamic organizations to showcase local talent\, recognize the academic excellence of the youth in this community\, and provide significant scholarships to high school seniors. \n\n\n\n\n			 \n				FREE REGISTRATION\n			\n				SPONSORSHIP BROCHURE
URL:https://www.bcacdst.org/event/decades-en-rouge/
LOCATION:Virtual
ATTACH;FMTTYPE=image/png:https://www.bcacdst.org/wp-content/uploads/2021/02/Decades-En-Rouge-Flyer.png
ORGANIZER;CN="BCACDST":MAILTO:info@bcacdst.org
END:VEVENT
END:VCALENDAR