BEGIN:VCALENDAR
VERSION:2.0
PRODID:-//BCAC DST - ECPv6.15.12.2//NONSGML v1.0//EN
CALSCALE:GREGORIAN
METHOD:PUBLISH
X-WR-CALNAME:BCAC DST
X-ORIGINAL-URL:https://www.bcacdst.org
X-WR-CALDESC:Events for BCAC DST
REFRESH-INTERVAL;VALUE=DURATION:PT1H
X-Robots-Tag:noindex
X-PUBLISHED-TTL:PT1H
BEGIN:VTIMEZONE
TZID:America/New_York
BEGIN:DAYLIGHT
TZOFFSETFROM:-0500
TZOFFSETTO:-0400
TZNAME:EDT
DTSTART:20200308T070000
END:DAYLIGHT
BEGIN:STANDARD
TZOFFSETFROM:-0400
TZOFFSETTO:-0500
TZNAME:EST
DTSTART:20201101T060000
END:STANDARD
BEGIN:DAYLIGHT
TZOFFSETFROM:-0500
TZOFFSETTO:-0400
TZNAME:EDT
DTSTART:20210314T070000
END:DAYLIGHT
BEGIN:STANDARD
TZOFFSETFROM:-0400
TZOFFSETTO:-0500
TZNAME:EST
DTSTART:20211107T060000
END:STANDARD
BEGIN:DAYLIGHT
TZOFFSETFROM:-0500
TZOFFSETTO:-0400
TZNAME:EDT
DTSTART:20220313T070000
END:DAYLIGHT
BEGIN:STANDARD
TZOFFSETFROM:-0400
TZOFFSETTO:-0500
TZNAME:EST
DTSTART:20221106T060000
END:STANDARD
END:VTIMEZONE
BEGIN:VEVENT
DTSTART;TZID=America/New_York:20210403T120000
DTEND;TZID=America/New_York:20210403T140000
DTSTAMP:20260420T054500
CREATED:20210329T013138Z
LAST-MODIFIED:20210329T013839Z
UID:2992-1617451200-1617458400@www.bcacdst.org
SUMMARY:BCAC Financial Hot Topics
DESCRIPTION:Join us LIVE\, as we discuss: Budgeting\, credit\, wills & trusts\, home ownership (part 1). Register for this FREE ZOOM event. Get all of your questions answered in our Q & A session and register for giveaways!\n			 \n			 \n				\n				\n			 \n				\n				\n				\n				\n				FREE REGISTRATION
URL:https://www.bcacdst.org/event/bcac-financial-hot-topics/
LOCATION:Virtual
ATTACH;FMTTYPE=image/jpeg:https://www.bcacdst.org/wp-content/uploads/2021/03/BCAC-Financial-Hot-Topics.jpg
ORGANIZER;CN="BCACDST":MAILTO:info@bcacdst.org
END:VEVENT
END:VCALENDAR